BEGIN:VCALENDAR
VERSION:2.0
PRODID:-//Mimms Museum of Technology and Art - ECPv6.15.20//NONSGML v1.0//EN
CALSCALE:GREGORIAN
METHOD:PUBLISH
X-WR-CALNAME:Mimms Museum of Technology and Art
X-ORIGINAL-URL:https://mimmsmuseum.org
X-WR-CALDESC:Events for Mimms Museum of Technology and Art
REFRESH-INTERVAL;VALUE=DURATION:PT1H
X-Robots-Tag:noindex
X-PUBLISHED-TTL:PT1H
BEGIN:VTIMEZONE
TZID:America/New_York
BEGIN:DAYLIGHT
TZOFFSETFROM:-0500
TZOFFSETTO:-0400
TZNAME:EDT
DTSTART:20240310T070000
END:DAYLIGHT
BEGIN:STANDARD
TZOFFSETFROM:-0400
TZOFFSETTO:-0500
TZNAME:EST
DTSTART:20241103T060000
END:STANDARD
BEGIN:DAYLIGHT
TZOFFSETFROM:-0500
TZOFFSETTO:-0400
TZNAME:EDT
DTSTART:20250309T070000
END:DAYLIGHT
BEGIN:STANDARD
TZOFFSETFROM:-0400
TZOFFSETTO:-0500
TZNAME:EST
DTSTART:20251102T060000
END:STANDARD
BEGIN:DAYLIGHT
TZOFFSETFROM:-0500
TZOFFSETTO:-0400
TZNAME:EDT
DTSTART:20260308T070000
END:DAYLIGHT
BEGIN:STANDARD
TZOFFSETFROM:-0400
TZOFFSETTO:-0500
TZNAME:EST
DTSTART:20261101T060000
END:STANDARD
END:VTIMEZONE
BEGIN:VEVENT
DTSTART;VALUE=DATE:20250602
DTEND;VALUE=DATE:20250726
DTSTAMP:20260420T065257
CREATED:20250328T193006Z
LAST-MODIFIED:20250610T143728Z
UID:30217-1748822400-1753487999@mimmsmuseum.org
SUMMARY:Summer Camps at The Mimms
DESCRIPTION:  \nRegistration is open now and camps are filling up!\nDon’t miss your opportunity to join in the summer fun.\nRegistration through City of Roswell Parks and Recreation is quick and easy. \nDiscounts are available for Roswell residents.
URL:https://mimmsmuseum.org/event/summer-camps-at-the-mimms/
CATEGORIES:July Events,June Events
ATTACH;FMTTYPE=image/png:https://mimmsmuseum.org/wp-content/uploads/2025/03/Summer-Camp-25-Flyer-Presentation-1.png
END:VEVENT
END:VCALENDAR