BEGIN:VCALENDAR
VERSION:2.0
PRODID:-//Mimms Museum of Technology and Art - ECPv6.15.20//NONSGML v1.0//EN
CALSCALE:GREGORIAN
METHOD:PUBLISH
X-ORIGINAL-URL:https://mimmsmuseum.org
X-WR-CALDESC:Events for Mimms Museum of Technology and Art
REFRESH-INTERVAL;VALUE=DURATION:PT1H
X-Robots-Tag:noindex
X-PUBLISHED-TTL:PT1H
BEGIN:VTIMEZONE
TZID:America/New_York
BEGIN:DAYLIGHT
TZOFFSETFROM:-0500
TZOFFSETTO:-0400
TZNAME:EDT
DTSTART:20250309T070000
END:DAYLIGHT
BEGIN:STANDARD
TZOFFSETFROM:-0400
TZOFFSETTO:-0500
TZNAME:EST
DTSTART:20251102T060000
END:STANDARD
BEGIN:DAYLIGHT
TZOFFSETFROM:-0500
TZOFFSETTO:-0400
TZNAME:EDT
DTSTART:20260308T070000
END:DAYLIGHT
BEGIN:STANDARD
TZOFFSETFROM:-0400
TZOFFSETTO:-0500
TZNAME:EST
DTSTART:20261101T060000
END:STANDARD
BEGIN:DAYLIGHT
TZOFFSETFROM:-0500
TZOFFSETTO:-0400
TZNAME:EDT
DTSTART:20270314T070000
END:DAYLIGHT
BEGIN:STANDARD
TZOFFSETFROM:-0400
TZOFFSETTO:-0500
TZNAME:EST
DTSTART:20271107T060000
END:STANDARD
END:VTIMEZONE
BEGIN:VEVENT
DTSTART;VALUE=DATE:20260304
DTEND;VALUE=DATE:20260602
DTSTAMP:20260422T214313
CREATED:20260117T174353Z
LAST-MODIFIED:20260323T132346Z
UID:30940-1772582400-1780358399@mimmsmuseum.org
SUMMARY:Summer Camp Registration is OPEN NOW!
DESCRIPTION:Don’t miss out! \nRegistration for summer camps begins today\, March 4th\, at 9 AM for residents of Roswell.\nNon-resident registration begins on March 18th.  Register here! \n 
URL:https://mimmsmuseum.org/event/summer-camp-registration-begins/
ATTACH;FMTTYPE=image/png:https://mimmsmuseum.org/wp-content/uploads/2026/01/Summer-Camps-at-Mimms-Museum-1.png
END:VEVENT
BEGIN:VEVENT
DTSTART;VALUE=DATE:20260305
DTEND;VALUE=DATE:20260322
DTSTAMP:20260422T214313
CREATED:20260305T195658Z
LAST-MODIFIED:20260305T201803Z
UID:31094-1772668800-1774137599@mimmsmuseum.org
SUMMARY:BYTE26 - Silent Auction Live Now!
DESCRIPTION:Our Silent Auction is officially live! All proceeds benefit the Mimms Museum of Technology and Art\, supporting our ongoing mission to preserve\, educate\, and empower through exhibits\, programs\, and community outreach. \nThis year’s auction features fantastic packages from local restaurants and businesses\, including tickets for two with Viking Cruises. Don’t miss your chance to bid on an exciting slate of gifts and experiences\, all while supporting Mimms Museum. \nBidding will open on March 5 at 5:00 PM\, through the link included here and will close before our BYTE26 gala\, which you won’t want to miss!
URL:https://mimmsmuseum.org/event/byte26-silent-auction-live-now/
CATEGORIES:Fundraiser,March Events
ATTACH;FMTTYPE=image/png:https://mimmsmuseum.org/wp-content/uploads/2026/03/Pres-BYTE26-Silent-Auction.png
END:VEVENT
BEGIN:VEVENT
DTSTART;TZID=America/New_York:20260307T140000
DTEND;TZID=America/New_York:20260307T160000
DTSTAMP:20260422T214313
CREATED:20251112T145702Z
LAST-MODIFIED:20251112T145729Z
UID:30772-1772892000-1772899200@mimmsmuseum.org
SUMMARY:Punch Card Machine Demo
DESCRIPTION:Ever wonder about the history of the punchcard? \nThe punchcard exhibit starts with a Jacquard Loom\, one of the earliest uses of punched cards\, which helped to make woven fabric more affordable. Herman Hollerith’s invention of electromechanical processing of cards tabulated data for the 1890 census. The IBM family of punch card machines was used for data processing and record-keeping across many industries and academia. Punched cards were even used for matchmaking at the University of Iowa in 1963! \nCome learn more about this history and punch your own souvenir card on an original IBM 029 to take home during the demo. \nSaturday\, 2 – 4 PM\, free with museum membership or admission.
URL:https://mimmsmuseum.org/event/punch-card-machine-demo-12/
LOCATION:Mimms Museum of Technology and Art\, 5000 Commerce Pkwy\, Roswell\, GA\, 30076\, United States
CATEGORIES:Education,March Events
ATTACH;FMTTYPE=image/png:https://mimmsmuseum.org/wp-content/uploads/2025/02/punch-card-machine.png
ORGANIZER;CN="Mimms Museum of Technology and Art":MAILTO:info@mimmsmuseum.org
END:VEVENT
END:VCALENDAR